BEGIN:VCALENDAR
VERSION:2.0
PRODID:-//ChamberMaster//Event Calendar 2.0//EN
METHOD:PUBLISH
X-PUBLISHED-TTL:P3D
REFRESH-INTERVAL:P3D
CALSCALE:GREGORIAN
BEGIN:VEVENT
DTSTART:20250131T170000Z
DTEND:20250131T173000Z
X-MICROSOFT-CDO-ALLDAYEVENT:FALSE
SUMMARY:Ribbon Cutting at Dirty Dough
DESCRIPTION:Join the Chamber as we celebrate with a ribbon cutting ceremony.
X-ALT-DESC;FMTTYPE=text/html:<span style="font-size: 16px\;">Join the Chamber as we celebrate with a ribbon cutting ceremony.&nbsp\;</span>
LOCATION:1347 W. Walnut Ave. Dalton\, GA 30720
UID:e.763.3323
SEQUENCE:3
DTSTAMP:20260425T175415Z
URL:https://business.daltonchamber.org/events/details/ribbon-cutting-at-dirty-dough-3323
END:VEVENT

END:VCALENDAR
