BEGIN:VCALENDAR
VERSION:2.0
PRODID:-//ChamberMaster//Event Calendar 2.0//EN
METHOD:PUBLISH
X-PUBLISHED-TTL:P3D
REFRESH-INTERVAL:P3D
CALSCALE:GREGORIAN
BEGIN:VEVENT
DTSTART:20251121T220000Z
DTEND:20251121T223000Z
X-MICROSOFT-CDO-ALLDAYEVENT:FALSE
SUMMARY:Ribbon Cutting: Appliances 4 Less
DESCRIPTION:Join the Chamber as we celebrate with a ribbon cutting ceremony. \n\n\n\nThe first 50 people to attend will receive $50 gift cards! There will also be a chance to enter to win a 50" TV!
X-ALT-DESC;FMTTYPE=text/html:<span style="box-sizing: border-box\; outline: 0px\; color: rgb(72\, 75\, 74)\; font-size: 16px\; font-family: tahoma\;">Join the Chamber as we celebrate with a ribbon cutting ceremony.</span><span style="box-sizing: border-box\; color: rgb(72\, 75\, 74)\; font-family: Arial\, Helvetica\, sans-serif\; font-size: 16px\;">&nbsp\;<br />\n<br />\nThe first 50 people to attend will receive $50 gift cards! There will also be a chance to enter to win a 50&quot\; TV!</span>
LOCATION:2311 East Morris St. Dalton\, GA
UID:e.763.3390
SEQUENCE:3
DTSTAMP:20260426T000750Z
URL:https://business.daltonchamber.org/events/details/ribbon-cutting-appliances-4-less-3390
END:VEVENT

END:VCALENDAR
