BEGIN:VCALENDAR
VERSION:2.0
PRODID:-//ChamberMaster//Event Calendar 2.0//EN
METHOD:PUBLISH
X-PUBLISHED-TTL:P3D
REFRESH-INTERVAL:P3D
CALSCALE:GREGORIAN
BEGIN:VEVENT
DTSTART:20100313T050000Z
DTEND:20100313T050000Z
X-MICROSOFT-CDO-ALLDAYEVENT:FALSE
SUMMARY:'Remember the Time' Bowl-A-Thon at Galaxy Bowling
DESCRIPTION:
X-ALT-DESC;FMTTYPE=text/html:
LOCATION:
UID:e.763.385
SEQUENCE:3
DTSTAMP:20260425T185659Z
URL:https://business.daltonchamber.org/events/details/remember-the-time-bowl-a-thon-at-galaxy-bowling-03-13-2010-385
END:VEVENT

END:VCALENDAR
