BEGIN:VCALENDAR
VERSION:2.0
PRODID:-//ChamberMaster//Event Calendar 2.0//EN
METHOD:PUBLISH
X-PUBLISHED-TTL:P3D
REFRESH-INTERVAL:P3D
CALSCALE:GREGORIAN
BEGIN:VEVENT
DTSTART:20250411T123000Z
DTEND:20250411T133000Z
X-MICROSOFT-CDO-ALLDAYEVENT:FALSE
SUMMARY:Red Carpet Tour at Tunnel Hill Elementary School
DESCRIPTION:Join us to tour a local school to learn about their programs\, students\,  and how they are preparing students to join the workforce in the future. Free to attend!  Registration required.
X-ALT-DESC;FMTTYPE=text/html:<br />\n<span style="font-size:14px\;">Join us to tour a local school to learn about their programs\, students\,&nbsp\; and how they are preparing students to join the workforce in the future. Free to attend!&nbsp\; Registration required.</span><br />\n<br />\n&nbsp\;
LOCATION:Tunnel Hill Elementary 100 Bogle Street\, Dalton GA 30721
UID:e.763.3341
SEQUENCE:3
DTSTAMP:20260424T040141Z
URL:https://business.daltonchamber.org/events/details/red-carpet-tour-at-tunnel-hill-elementary-school-3341
END:VEVENT

END:VCALENDAR
