BEGIN:VCALENDAR
VERSION:2.0
PRODID:-//ChamberMaster//Event Calendar 2.0//EN
METHOD:PUBLISH
X-PUBLISHED-TTL:P3D
REFRESH-INTERVAL:P3D
CALSCALE:GREGORIAN
BEGIN:VEVENT
DTSTART:20250114T140000Z
DTEND:20250114T150000Z
X-MICROSOFT-CDO-ALLDAYEVENT:FALSE
SUMMARY:Professional Development Series: Focus and Flourish
DESCRIPTION:Unlock your productivity potential in just one hour!\n\n\n\nJoin us for a FREE workshop focused on productivity at work and at home!\n\n\n\nThis session is for new\, mid-level\, and seasoned professionals who want a refresher on time management\, tools for productivity\, and a fresh perspective on prioritizing tasks. No matter where you are in your professional journey\, you'll want to join us as we learn how to focus and flourish  together!
X-ALT-DESC;FMTTYPE=text/html:<span style="font-size:18px\;"><span style="font-family:times new roman\;"><strong style="font-family: &quot\;times new roman&quot\;\; font-size: 18px\;">Unlock your productivity potential in just one hour!</strong><br />\n<br />\nJoin us for a FREE workshop focused on productivity at work and at home!<br />\n<br />\nThis session is for new\, mid-level\, and seasoned professionals who want a refresher on time management\, tools for productivity\, and a fresh perspective on prioritizing tasks. No matter where you are in your professional journey\, you&#39\;ll want to join us as we learn how to&nbsp\;<strong style="font-family: &quot\;times new roman&quot\;\; font-size: 18px\;">focus&nbsp\;</strong>and&nbsp\;<strong style="font-family: &quot\;times new roman&quot\;\; font-size: 18px\;">flourish</strong>&#8203\; together!</span></span><br />\n&nbsp\;
LOCATION:100 S Hamilton Street Upstairs Board Room at the Chamber
UID:e.763.3318
SEQUENCE:3
DTSTAMP:20260422T084231Z
URL:https://business.daltonchamber.org/events/details/professional-development-series-focus-and-flourish-3318
END:VEVENT

END:VCALENDAR
