BEGIN:VCALENDAR
VERSION:2.0
PRODID:-//ChamberMaster//Event Calendar 2.0//EN
METHOD:PUBLISH
X-PUBLISHED-TTL:P3D
REFRESH-INTERVAL:P3D
CALSCALE:GREGORIAN
BEGIN:VEVENT
DTSTART:20250113T170000Z
DTEND:20250113T170000Z
X-MICROSOFT-CDO-ALLDAYEVENT:FALSE
SUMMARY:Let's Do Lunch
DESCRIPTION:Are you new to the Chamber? Do you want to get involved but don't know how?  \n\nLet us take you to lunch and get to know you! We can help you make the most of your membership and introduce you to some new friends so you can start to grow your network. \n\n \n\nIf you are a new member or have not attended this event before\, we would love the privilege of taking you to lunch! Through this first networking opportunity\, you will learn how to become plugged into the Chamber and community\, create relationships with Chamber staff and friends\, and leave feeling well-prepared to take on your business ventures with the support of the Greater Dalton Chamber.\n\n \n\nThis event is free to attend\, but registration is required.
X-ALT-DESC;FMTTYPE=text/html:<p style="margin: 0in 0in 0pt\;"><span style="font-size:16px\;"><span style="font-family:times new roman\;"><strong><span style="color: black\;">Are you new to the Chamber? Do you want to get involved but don&#39\;t know how? &nbsp\;</span></strong></span></span><span style="font-family: Arial\, sans-serif\; color: black\; font-size: 10pt\;"><o:p></o:p></span></p>\n\n<p style="margin: 0in 0in 0pt\;"><span style="font-size:16px\;"><span style="font-family:times new roman\;"><span style="color: black\;">Let us take you to lunch and get to know you!&nbsp\;We can help you make the most of your membership and introduce you to some new friends so you can start to grow your network.&nbsp\;</span></span></span><br />\n&nbsp\;</p>\n\n<div><span style="font-size:16px\;"><span style="font-family:times new roman\;"><span style="color: rgb(0\, 0\, 0)\; white-space: pre-wrap\;">If you are a</span><span style="color: rgb(191\, 63\, 47)\; white-space: pre-wrap\;"> </span><span style="color:#0F6F86\;"><span style="white-space: pre-wrap\; text-decoration: underline\; font-weight: bold\;">new member</span></span><span style="color: rgb(0\, 0\, 0)\; white-space: pre-wrap\;"> or</span><span style="color: rgb(0\, 0\, 0)\; white-space: pre-wrap\; font-weight: bold\;"> </span><span style="white-space: pre-wrap\; font-weight: bold\; caret-color: rgb(15\, 111\, 134)\;"><font color="#0f6f86"><u>have not attended</u>&nbsp\;</font></span><font color="#000000"><span style="white-space: pre-wrap\;">this event before\, we would love the&nbsp\;privilege&nbsp\;of taking you to lunch! Through this first networking opportunity\, you will learn how to become plugged into the Chamber and community\, create relationships with Chamber staff and friends\, and leave feeling well-prepared to take on your business ventures with </span><span style="white-space: pre-wrap\;">the support of the Greater Dalton Chamber.</span></font></span></span></div>\n\n<div style="color: rgb(54\, 73\, 95)\; font-family: Calibri\, Helvetica\, Arial\, sans-serif\; font-size: 14px\; white-space: pre-wrap\;">&nbsp\;</div>\n\n<div style="color: rgb(54\, 73\, 95)\; font-family: Calibri\, Helvetica\, Arial\, sans-serif\; font-size: 14px\; white-space: pre-wrap\;"><span style="font-size:16px\;"><span style="font-family:times new roman\;"><span style="color: rgb(0\, 0\, 0)\; font-weight: bold\;">This event is free to attend\, but registration is required.</span></span></span></div>\n\n<p style="margin: 0in 0in 0pt"><span style="font-family: 'Arial'\, 'sans-serif'\; color: black\; font-size: 10pt"><o:p></o:p></span></p>\n\n<p style="margin: 0in 0in 0pt"><span style="font-family: 'Arial'\, 'sans-serif'\; color: black\; font-size: 10pt">&nbsp\;<o:p></o:p></span></p>\n
LOCATION:Cherokee Brewing + Pizza Company 207B W. Cuyler St.
UID:e.763.2813
SEQUENCE:3
DTSTAMP:20260426T040804Z
URL:https://business.daltonchamber.org/events/details/let-s-do-lunch-01-06-2025-2813
END:VEVENT

END:VCALENDAR
