BEGIN:VCALENDAR
VERSION:2.0
PRODID:-//ChamberMaster//Event Calendar 2.0//EN
METHOD:PUBLISH
X-PUBLISHED-TTL:P3D
REFRESH-INTERVAL:P3D
CALSCALE:GREGORIAN
BEGIN:VEVENT
DTSTART:20250108T163000Z
DTEND:20250108T180000Z
X-MICROSOFT-CDO-ALLDAYEVENT:FALSE
SUMMARY:Chamber Connections-January 2025
DESCRIPTION:Come join the most unique networking opportunity of the month!\n\n\n\nThe Chamber's hit event Chamber Connections provides you the opportunity to stand up and present a 30-second "commercial" about your business in a fast-paced\, fun environment! Participants have the chance to meet between 50 new businesses each month.  Door prizes are welcome!  Bring your business cards and come ready to have a good time.\n\n\n\nChamber Connections is presented by Best Buy Metals
X-ALT-DESC;FMTTYPE=text/html:Come join the most unique networking opportunity of the month!<br />\n<br />\nThe Chamber&#39\;s hit event Chamber Connections provides you the opportunity to stand up and present a 30-second &quot\;commercial&quot\; about your business in a fast-paced\, fun environment! Participants have the chance to meet between 50 new businesses each month.&nbsp\; Door prizes are welcome!&nbsp\; Bring your business cards and come ready to have a good time.<br />\n<br />\nChamber Connections is presented by Best Buy Metals
LOCATION:Dalton Golf & Country Club 333 Country Club Way
UID:e.763.3298
SEQUENCE:3
DTSTAMP:20260422T015835Z
URL:https://business.daltonchamber.org/events/details/chamber-connections-january-2025-3298
END:VEVENT

END:VCALENDAR
