BEGIN:VCALENDAR
VERSION:2.0
PRODID:-//ChamberMaster//Event Calendar 2.0//EN
METHOD:PUBLISH
X-PUBLISHED-TTL:P3D
REFRESH-INTERVAL:P3D
CALSCALE:GREGORIAN
BEGIN:VEVENT
DTSTART:20210910T150000Z
DTEND:20210910T160000Z
X-MICROSOFT-CDO-ALLDAYEVENT:FALSE
SUMMARY:11am Business Expo Open Air Info Class
DESCRIPTION:Come learn all about whether Business Expo 2021 is right for you! We will talk about what makes a great exhibit\, set up do's and don'ts\, and what to expect at expo!
X-ALT-DESC;FMTTYPE=text/html:Come learn all about whether Business Expo 2021 is right for you! We will talk about what makes a great exhibit\, set up do&#39\;s and don&#39\;ts\, and what to expect at expo!&nbsp\;
LOCATION:Greater Dalton Chamber 100 S. Hamilton St.
UID:e.763.2931
SEQUENCE:3
DTSTAMP:20260421T082252Z
URL:https://business.daltonchamber.org/events/details/11am-business-expo-open-air-info-class-2931
END:VEVENT

END:VCALENDAR
